BEGIN:VCALENDAR
VERSION:2.0
PRODID:-//Library Market//iCal Export//EN
BEGIN:VEVENT
SUMMARY:Diamond Painting
UID:63657
DTSTAMP:20260421T132800Z
DTSTART:20260807T200000Z
DTEND:20260807T220000Z
LOCATION:Lake Forest Library, 360 E Deerpath Rd, Lake Forest, IL 60045, Un
 ited States
ROOM: Teen Space
DESCRIPTION:Register and join us in person for relaxing diamond painting.J
 uneCoastersJulyBook BedazzlingAugustSchool Supplies 
URL:https://www.lakeforestlibrary.org/event/diamond-painting-63657
END:VEVENT
END:VCALENDAR
