BEGIN:VCALENDAR
VERSION:2.0
PRODID:-//Library Market//iCal Export//EN
BEGIN:VEVENT
SUMMARY:Cardboard Cars &amp; Drive-In Movie for Ages 1–5 with a Caregive
 r
UID:63668
DTSTAMP:20260419T224000Z
DTSTART:20260618T150000Z
DTEND:20260618T154500Z
LOCATION:Lake Forest Library, 360 E Deerpath Rd, Lake Forest, IL 60045, Un
 ited States
ROOM: Kasian Room
DESCRIPTION:Beep, beep! Register and join us in person to decorate your ve
 ry own cardboard box car, then watch a short drive-in movie while enjoying
  a snack! This program is designed for the child and accompanying adult to
  create together.
URL:https://www.lakeforestlibrary.org/event/cardboard-cars-drive-movie-age
 s-1-5-caregiver-63668
END:VEVENT
END:VCALENDAR
