BEGIN:VCALENDAR
VERSION:2.0
PRODID:-//Library Market//iCal Export//EN
BEGIN:VEVENT
SUMMARY:Finance Committee
UID:63693
DTSTAMP:20260420T185500Z
DTSTART:20260514T150000Z
DTEND:20260514T170000Z
LOCATION:Lake Forest Library, 360 E Deerpath Rd, Lake Forest, IL 60045, Un
 ited States
ROOM: Reed Room
DESCRIPTION:Discussion
URL:https://www.lakeforestlibrary.org/event/finance-committee-63693
END:VEVENT
END:VCALENDAR
