BEGIN:VCALENDAR
VERSION:2.0
PRODID:-//Library Market//iCal Export//EN
BEGIN:VEVENT
SUMMARY:Special Meeting - Library Board of Trustees
UID:63764
DTSTAMP:20260425T145500Z
DTSTART:20260427T230000Z
DTEND:20260428T010000Z
LOCATION:Lake Forest Library, 360 E Deerpath Rd, Lake Forest, IL 60045, Un
 ited States
ROOM: Reed Room
DESCRIPTION:Discussion
URL:https://www.lakeforestlibrary.org/event/special-meeting-library-board-
 trustees-63764
END:VEVENT
END:VCALENDAR
